BEGIN:VCALENDAR
VERSION:2.0
PRODID:-//miravenhill.org//NONSGML kigkonsult.se iCalcreator 2.30.10//
CALSCALE:GREGORIAN
METHOD:PUBLISH
UID:df7fe613-80e0-4a2d-8380-61267beed4cd
X-WR-CALDESC:
X-WR-RELCALID:8fed3d7fb4a5195bf6f9398cec8d57d9
X-WR-TIMEZONE:America/New_York
BEGIN:VTIMEZONE
TZID:America/New_York
BEGIN:STANDARD
TZNAME:EST
DTSTART:20311102T020000
TZOFFSETFROM:-0400
TZOFFSETTO:-0500
RDATE:20321107T020000
END:STANDARD
BEGIN:DAYLIGHT
TZNAME:EDT
DTSTART:20310309T020000
TZOFFSETFROM:-0500
TZOFFSETTO:-0400
RDATE:20320314T020000
RDATE:20330313T020000
END:DAYLIGHT
END:VTIMEZONE
BEGIN:VEVENT
UID:244677ee-5802-4403-90a3-2e7143de30a7
DTSTAMP:20260423T170437Z
DESCRIPTION:
DTSTART;TZID=America/New_York:20311224T000000
DTEND;TZID=America/New_York:20311224T235900
LOCATION:
SUMMARY:Christmas Eve open by appointment
END:VEVENT
END:VCALENDAR
