BEGIN:VCALENDAR
VERSION:2.0
PRODID:-//miravenhill.org//NONSGML kigkonsult.se iCalcreator 2.30.10//
CALSCALE:GREGORIAN
METHOD:PUBLISH
UID:10a5a86a-c613-4840-a098-69248bba3613
X-WR-CALDESC:
X-WR-RELCALID:d6c36e35efd0da2cbc5aaf15571c262a
X-WR-TIMEZONE:America/New_York
BEGIN:VTIMEZONE
TZID:America/New_York
BEGIN:STANDARD
TZNAME:EST
DTSTART:20311102T020000
TZOFFSETFROM:-0400
TZOFFSETTO:-0500
RDATE:20321107T020000
END:STANDARD
BEGIN:DAYLIGHT
TZNAME:EDT
DTSTART:20310309T020000
TZOFFSETFROM:-0500
TZOFFSETTO:-0400
RDATE:20320314T020000
RDATE:20330313T020000
END:DAYLIGHT
END:VTIMEZONE
BEGIN:VEVENT
UID:84ba515b-4566-4eca-a09b-d772004fb199
DTSTAMP:20260423T165706Z
DESCRIPTION:
DTSTART;TZID=America/New_York:20311221T140000
DTEND;TZID=America/New_York:20311221T160000
LOCATION:
SUMMARY:Open hours
END:VEVENT
END:VCALENDAR
