BEGIN:VCALENDAR
VERSION:2.0
PRODID:-//miravenhill.org//NONSGML kigkonsult.se iCalcreator 2.30.10//
CALSCALE:GREGORIAN
METHOD:PUBLISH
UID:b795f0c1-1594-4745-93a4-cacd104f6ec8
X-WR-CALDESC:
X-WR-RELCALID:36d9c1607c81ef6a1c4af0d8d56a5dc6
X-WR-TIMEZONE:America/New_York
BEGIN:VTIMEZONE
TZID:America/New_York
BEGIN:STANDARD
TZNAME:EST
DTSTART:20311102T020000
TZOFFSETFROM:-0400
TZOFFSETTO:-0500
RDATE:20321107T020000
END:STANDARD
BEGIN:DAYLIGHT
TZNAME:EDT
DTSTART:20310309T020000
TZOFFSETFROM:-0500
TZOFFSETTO:-0400
RDATE:20320314T020000
RDATE:20330313T020000
END:DAYLIGHT
END:VTIMEZONE
BEGIN:VEVENT
UID:100d58ae-40c7-4b76-9567-33140e9b6944
DTSTAMP:20260423T170113Z
DESCRIPTION:
DTSTART;TZID=America/New_York:20311214T140000
DTEND;TZID=America/New_York:20311214T160000
LOCATION:
SUMMARY:Open hours
END:VEVENT
END:VCALENDAR
