BEGIN:VCALENDAR
VERSION:2.0
PRODID:-//miravenhill.org//NONSGML kigkonsult.se iCalcreator 2.30.10//
CALSCALE:GREGORIAN
METHOD:PUBLISH
UID:204cfda7-cde1-4cf4-bc2e-ca3e7581baed
X-WR-CALDESC:
X-WR-RELCALID:dae3264b242faacd9d50eec63b3df0ae
X-WR-TIMEZONE:America/New_York
BEGIN:VTIMEZONE
TZID:America/New_York
BEGIN:STANDARD
TZNAME:EST
DTSTART:20311102T020000
TZOFFSETFROM:-0400
TZOFFSETTO:-0500
RDATE:20321107T020000
END:STANDARD
BEGIN:DAYLIGHT
TZNAME:EDT
DTSTART:20310309T020000
TZOFFSETFROM:-0500
TZOFFSETTO:-0400
RDATE:20320314T020000
RDATE:20330313T020000
END:DAYLIGHT
END:VTIMEZONE
BEGIN:VEVENT
UID:081824b1-44f2-4c23-9b8e-6058749a84b1
DTSTAMP:20260423T153829Z
DESCRIPTION:
DTSTART;TZID=America/New_York:20311124T000000
DTEND;TZID=America/New_York:20311124T235900
LOCATION:
SUMMARY:Thanksgiving hours by appointment
END:VEVENT
END:VCALENDAR
