BEGIN:VCALENDAR
VERSION:2.0
PRODID:-//miravenhill.org//NONSGML kigkonsult.se iCalcreator 2.30.10//
CALSCALE:GREGORIAN
METHOD:PUBLISH
UID:9dd12ed7-ffb4-4c79-85d3-fa4c669cf972
X-WR-CALDESC:
X-WR-RELCALID:16fec5bf804fc8249d48dceaac1768d5
X-WR-TIMEZONE:America/New_York
BEGIN:VTIMEZONE
TZID:America/New_York
BEGIN:STANDARD
TZNAME:EST
DTSTART:20311102T020000
TZOFFSETFROM:-0400
TZOFFSETTO:-0500
RDATE:20321107T020000
END:STANDARD
BEGIN:DAYLIGHT
TZNAME:EDT
DTSTART:20310309T020000
TZOFFSETFROM:-0500
TZOFFSETTO:-0400
RDATE:20320314T020000
RDATE:20330313T020000
END:DAYLIGHT
END:VTIMEZONE
BEGIN:VEVENT
UID:061d5b93-5473-4745-911d-07db2330f76e
DTSTAMP:20260423T153554Z
DESCRIPTION:
DTSTART;TZID=America/New_York:20311123T140000
DTEND;TZID=America/New_York:20311123T160000
LOCATION:
SUMMARY:Open hours
END:VEVENT
END:VCALENDAR
