BEGIN:VCALENDAR
VERSION:2.0
PRODID:-//miravenhill.org//NONSGML kigkonsult.se iCalcreator 2.30.10//
CALSCALE:GREGORIAN
METHOD:PUBLISH
UID:21229e73-751b-4134-a262-68c2540d58a6
X-WR-CALDESC:
X-WR-RELCALID:d23b36adef4032a1e0ca6cc8b135a0c1
X-WR-TIMEZONE:America/New_York
BEGIN:VTIMEZONE
TZID:America/New_York
BEGIN:STANDARD
TZNAME:EST
DTSTART:20311102T020000
TZOFFSETFROM:-0400
TZOFFSETTO:-0500
RDATE:20321107T020000
END:STANDARD
BEGIN:DAYLIGHT
TZNAME:EDT
DTSTART:20310309T020000
TZOFFSETFROM:-0500
TZOFFSETTO:-0400
RDATE:20320314T020000
RDATE:20330313T020000
END:DAYLIGHT
END:VTIMEZONE
BEGIN:VEVENT
UID:c183cf45-379f-4c37-b7c9-ae2d10cdf76a
DTSTAMP:20260423T154406Z
DESCRIPTION:
DTSTART;TZID=America/New_York:20311116T140000
DTEND;TZID=America/New_York:20311116T160000
LOCATION:
SUMMARY:Open hours
END:VEVENT
END:VCALENDAR
