BEGIN:VCALENDAR
VERSION:2.0
PRODID:-//miravenhill.org//NONSGML kigkonsult.se iCalcreator 2.30.10//
CALSCALE:GREGORIAN
METHOD:PUBLISH
UID:ab7ada3e-58ff-4713-8230-c7f0deb11f8c
X-WR-CALDESC:
X-WR-RELCALID:7365b09a15ad4d5b100aab449db3c728
X-WR-TIMEZONE:America/New_York
BEGIN:VTIMEZONE
TZID:America/New_York
BEGIN:STANDARD
TZNAME:EST
DTSTART:20311102T020000
TZOFFSETFROM:-0400
TZOFFSETTO:-0500
RDATE:20321107T020000
END:STANDARD
BEGIN:DAYLIGHT
TZNAME:EDT
DTSTART:20310309T020000
TZOFFSETFROM:-0500
TZOFFSETTO:-0400
RDATE:20320314T020000
RDATE:20330313T020000
END:DAYLIGHT
END:VTIMEZONE
BEGIN:VEVENT
UID:6820aa6f-06fb-4803-9aa0-418782bee7cf
DTSTAMP:20260423T153305Z
DESCRIPTION:
DTSTART;TZID=America/New_York:20311109T140000
DTEND;TZID=America/New_York:20311109T160000
LOCATION:
SUMMARY:Open hours
END:VEVENT
END:VCALENDAR
