BEGIN:VCALENDAR
VERSION:2.0
PRODID:-//miravenhill.org//NONSGML kigkonsult.se iCalcreator 2.30.10//
CALSCALE:GREGORIAN
METHOD:PUBLISH
UID:9efdba30-53f7-47fc-9d02-5d77a430b61f
X-WR-CALDESC:
X-WR-RELCALID:73abad0b3253c990f704bb4679039a06
X-WR-TIMEZONE:America/New_York
BEGIN:VTIMEZONE
TZID:America/New_York
BEGIN:STANDARD
TZNAME:EST
DTSTART:20301103T020000
TZOFFSETFROM:-0400
TZOFFSETTO:-0500
RDATE:20311102T020000
RDATE:20321107T020000
END:STANDARD
BEGIN:DAYLIGHT
TZNAME:EDT
DTSTART:20310309T020000
TZOFFSETFROM:-0500
TZOFFSETTO:-0400
RDATE:20320314T020000
RDATE:20330313T020000
END:DAYLIGHT
END:VTIMEZONE
BEGIN:VEVENT
UID:c9a47a12-0e4d-4b2a-b52c-52b69a753e04
DTSTAMP:20260423T154334Z
DESCRIPTION:
DTSTART;TZID=America/New_York:20311102T140000
DTEND;TZID=America/New_York:20311102T160000
LOCATION:
SUMMARY:Open hours
END:VEVENT
END:VCALENDAR
