BEGIN:VCALENDAR
VERSION:2.0
PRODID:-//miravenhill.org//NONSGML kigkonsult.se iCalcreator 2.30.10//
CALSCALE:GREGORIAN
METHOD:PUBLISH
UID:e3268958-5154-44eb-8ea2-544224e7e6e1
X-WR-CALDESC:
X-WR-RELCALID:3b0a703c23aba67608e8e1acfa4d6794
X-WR-TIMEZONE:America/New_York
BEGIN:VTIMEZONE
TZID:America/New_York
BEGIN:STANDARD
TZNAME:EST
DTSTART:20301103T020000
TZOFFSETFROM:-0400
TZOFFSETTO:-0500
RDATE:20311102T020000
RDATE:20321107T020000
END:STANDARD
BEGIN:DAYLIGHT
TZNAME:EDT
DTSTART:20310309T020000
TZOFFSETFROM:-0500
TZOFFSETTO:-0400
RDATE:20320314T020000
RDATE:20330313T020000
END:DAYLIGHT
END:VTIMEZONE
BEGIN:VEVENT
UID:b77a6356-3eec-4454-bf76-6c55868b314c
DTSTAMP:20260423T142259Z
DESCRIPTION:
DTSTART;TZID=America/New_York:20311026T140000
DTEND;TZID=America/New_York:20311026T160000
LOCATION:
SUMMARY:Open hours
END:VEVENT
END:VCALENDAR
