BEGIN:VCALENDAR
VERSION:2.0
PRODID:-//miravenhill.org//NONSGML kigkonsult.se iCalcreator 2.30.10//
CALSCALE:GREGORIAN
METHOD:PUBLISH
UID:fab64c14-73d4-4192-b87a-fe729923cd4b
X-WR-CALDESC:
X-WR-RELCALID:57c0c7061f27dc7a6a703df95fcbda72
X-WR-TIMEZONE:America/New_York
BEGIN:VTIMEZONE
TZID:America/New_York
BEGIN:STANDARD
TZNAME:EST
DTSTART:20301103T020000
TZOFFSETFROM:-0400
TZOFFSETTO:-0500
RDATE:20311102T020000
RDATE:20321107T020000
END:STANDARD
BEGIN:DAYLIGHT
TZNAME:EDT
DTSTART:20310309T020000
TZOFFSETFROM:-0500
TZOFFSETTO:-0400
RDATE:20320314T020000
RDATE:20330313T020000
END:DAYLIGHT
END:VTIMEZONE
BEGIN:VEVENT
UID:30956174-fa70-4535-acd9-a107f5bf8e1f
DTSTAMP:20260423T142953Z
DESCRIPTION:
DTSTART;TZID=America/New_York:20311019T140000
DTEND;TZID=America/New_York:20311019T160000
LOCATION:
SUMMARY:Open hours
END:VEVENT
END:VCALENDAR
