BEGIN:VCALENDAR
VERSION:2.0
PRODID:-//miravenhill.org//NONSGML kigkonsult.se iCalcreator 2.30.10//
CALSCALE:GREGORIAN
METHOD:PUBLISH
UID:a6ab4fb3-7580-4198-9362-d132f7fa71b3
X-WR-CALDESC:
X-WR-RELCALID:bd83881884399a0e20276f0ba82f7d56
X-WR-TIMEZONE:America/New_York
BEGIN:VTIMEZONE
TZID:America/New_York
BEGIN:STANDARD
TZNAME:EST
DTSTART:20301103T020000
TZOFFSETFROM:-0400
TZOFFSETTO:-0500
RDATE:20311102T020000
RDATE:20321107T020000
END:STANDARD
BEGIN:DAYLIGHT
TZNAME:EDT
DTSTART:20310309T020000
TZOFFSETFROM:-0500
TZOFFSETTO:-0400
RDATE:20320314T020000
RDATE:20330313T020000
END:DAYLIGHT
END:VTIMEZONE
BEGIN:VEVENT
UID:11b013fd-bd8a-4a8c-84a0-8fd7bb29ab97
DTSTAMP:20260423T143829Z
DESCRIPTION:
DTSTART;TZID=America/New_York:20311012T140000
DTEND;TZID=America/New_York:20311012T160000
LOCATION:
SUMMARY:Open hours
END:VEVENT
END:VCALENDAR
