BEGIN:VCALENDAR
VERSION:2.0
PRODID:-//miravenhill.org//NONSGML kigkonsult.se iCalcreator 2.30.10//
CALSCALE:GREGORIAN
METHOD:PUBLISH
UID:bbe4a129-961e-46c8-b3a0-431b55bfd1f1
X-WR-CALDESC:
X-WR-RELCALID:1ba02f6d41c2afbf2e5c208533ad63bd
X-WR-TIMEZONE:America/New_York
BEGIN:VTIMEZONE
TZID:America/New_York
BEGIN:STANDARD
TZNAME:EST
DTSTART:20301103T020000
TZOFFSETFROM:-0400
TZOFFSETTO:-0500
RDATE:20311102T020000
RDATE:20321107T020000
END:STANDARD
BEGIN:DAYLIGHT
TZNAME:EDT
DTSTART:20310309T020000
TZOFFSETFROM:-0500
TZOFFSETTO:-0400
RDATE:20320314T020000
RDATE:20330313T020000
END:DAYLIGHT
END:VTIMEZONE
BEGIN:VEVENT
UID:7c89bb16-43a2-46e8-b606-521cc983d108
DTSTAMP:20260423T143608Z
DESCRIPTION:
DTSTART;TZID=America/New_York:20311011T120000
DTEND;TZID=America/New_York:20311011T160000
LOCATION:4737 Fuller Rd.\, East Jordan\, MI 49727 US
SUMMARY:Open hours
END:VEVENT
END:VCALENDAR
