BEGIN:VCALENDAR
VERSION:2.0
PRODID:-//miravenhill.org//NONSGML kigkonsult.se iCalcreator 2.30.10//
CALSCALE:GREGORIAN
METHOD:PUBLISH
UID:ea4c4ead-a32e-48f1-9115-04c743b1d164
X-WR-CALDESC:
X-WR-RELCALID:afefedc1fad6fc9fa0629fd09af8f044
X-WR-TIMEZONE:America/New_York
BEGIN:VTIMEZONE
TZID:America/New_York
BEGIN:STANDARD
TZNAME:EST
DTSTART:20301103T020000
TZOFFSETFROM:-0400
TZOFFSETTO:-0500
RDATE:20311102T020000
RDATE:20321107T020000
END:STANDARD
BEGIN:DAYLIGHT
TZNAME:EDT
DTSTART:20310309T020000
TZOFFSETFROM:-0500
TZOFFSETTO:-0400
RDATE:20320314T020000
RDATE:20330313T020000
END:DAYLIGHT
END:VTIMEZONE
BEGIN:VEVENT
UID:8feac8ef-d4d4-48b0-acc0-7c878da2c174
DTSTAMP:20260423T144145Z
DESCRIPTION:
DTSTART;TZID=America/New_York:20311005T140000
DTEND;TZID=America/New_York:20311005T160000
LOCATION:
SUMMARY:Open hours
END:VEVENT
END:VCALENDAR
