BEGIN:VCALENDAR
VERSION:2.0
PRODID:-//miravenhill.org//NONSGML kigkonsult.se iCalcreator 2.30.10//
CALSCALE:GREGORIAN
METHOD:PUBLISH
UID:d0fb0a70-55d2-47c2-a59f-f70f4b3608f5
X-WR-CALDESC:
X-WR-RELCALID:b9239ab0372d33b1502d9259a91dd95b
X-WR-TIMEZONE:America/New_York
BEGIN:VTIMEZONE
TZID:America/New_York
BEGIN:STANDARD
TZNAME:EST
DTSTART:20301103T020000
TZOFFSETFROM:-0400
TZOFFSETTO:-0500
RDATE:20311102T020000
RDATE:20321107T020000
END:STANDARD
BEGIN:DAYLIGHT
TZNAME:EDT
DTSTART:20310309T020000
TZOFFSETFROM:-0500
TZOFFSETTO:-0400
RDATE:20320314T020000
RDATE:20330313T020000
END:DAYLIGHT
END:VTIMEZONE
BEGIN:VEVENT
UID:b4061c65-fde1-489a-a6ca-293f19f0d10b
DTSTAMP:20260423T142931Z
DESCRIPTION:
DTSTART;TZID=America/New_York:20311004T120000
DTEND;TZID=America/New_York:20311004T160000
LOCATION:4737 Fuller Rd.\, East Jordan\, MI 49727 US
SUMMARY:Open hours
END:VEVENT
END:VCALENDAR
