BEGIN:VCALENDAR
VERSION:2.0
PRODID:-//miravenhill.org//NONSGML kigkonsult.se iCalcreator 2.30.10//
CALSCALE:GREGORIAN
METHOD:PUBLISH
UID:58192c92-0f19-49d8-b3eb-bf4cbb000467
X-WR-CALDESC:
X-WR-RELCALID:69404612a6bc4b87489595865d9207b5
X-WR-TIMEZONE:America/New_York
BEGIN:VTIMEZONE
TZID:America/New_York
BEGIN:STANDARD
TZNAME:EST
DTSTART:20301103T020000
TZOFFSETFROM:-0400
TZOFFSETTO:-0500
RDATE:20311102T020000
RDATE:20321107T020000
END:STANDARD
BEGIN:DAYLIGHT
TZNAME:EDT
DTSTART:20310309T020000
TZOFFSETFROM:-0500
TZOFFSETTO:-0400
RDATE:20320314T020000
RDATE:20330313T020000
END:DAYLIGHT
END:VTIMEZONE
BEGIN:VEVENT
UID:bb8ef801-13b9-46e5-8172-cb996d9bb51d
DTSTAMP:20260423T123633Z
DESCRIPTION:
DTSTART;TZID=America/New_York:20310928T140000
DTEND;TZID=America/New_York:20310928T160000
LOCATION:
SUMMARY:Open hours
END:VEVENT
END:VCALENDAR
