BEGIN:VCALENDAR
VERSION:2.0
PRODID:-//miravenhill.org//NONSGML kigkonsult.se iCalcreator 2.30.10//
CALSCALE:GREGORIAN
METHOD:PUBLISH
UID:8cb180cb-906e-4c3e-b5f4-5ca643ff1e26
X-WR-CALDESC:
X-WR-RELCALID:0d5d550be6221145862b46dc9c1fd599
X-WR-TIMEZONE:America/New_York
BEGIN:VTIMEZONE
TZID:America/New_York
BEGIN:STANDARD
TZNAME:EST
DTSTART:20301103T020000
TZOFFSETFROM:-0400
TZOFFSETTO:-0500
RDATE:20311102T020000
RDATE:20321107T020000
END:STANDARD
BEGIN:DAYLIGHT
TZNAME:EDT
DTSTART:20310309T020000
TZOFFSETFROM:-0500
TZOFFSETTO:-0400
RDATE:20320314T020000
RDATE:20330313T020000
END:DAYLIGHT
END:VTIMEZONE
BEGIN:VEVENT
UID:cc8d80c3-a6a0-44d2-bc92-cf1df436b162
DTSTAMP:20260423T123531Z
DESCRIPTION:
DTSTART;TZID=America/New_York:20310921T140000
DTEND;TZID=America/New_York:20310921T160000
LOCATION:
SUMMARY:Open hours
END:VEVENT
END:VCALENDAR
