BEGIN:VCALENDAR
VERSION:2.0
PRODID:-//miravenhill.org//NONSGML kigkonsult.se iCalcreator 2.30.10//
CALSCALE:GREGORIAN
METHOD:PUBLISH
UID:d47a478f-3ffa-4442-9bcf-52da076e501c
X-WR-CALDESC:
X-WR-RELCALID:8b9f61ccbc69673ff640ec03462ba3b3
X-WR-TIMEZONE:America/New_York
BEGIN:VTIMEZONE
TZID:America/New_York
BEGIN:STANDARD
TZNAME:EST
DTSTART:20301103T020000
TZOFFSETFROM:-0400
TZOFFSETTO:-0500
RDATE:20311102T020000
RDATE:20321107T020000
END:STANDARD
BEGIN:DAYLIGHT
TZNAME:EDT
DTSTART:20310309T020000
TZOFFSETFROM:-0500
TZOFFSETTO:-0400
RDATE:20320314T020000
RDATE:20330313T020000
END:DAYLIGHT
END:VTIMEZONE
BEGIN:VEVENT
UID:ff116a9e-021a-4981-ae2c-a728085112db
DTSTAMP:20260423T124005Z
DESCRIPTION:
DTSTART;TZID=America/New_York:20310914T140000
DTEND;TZID=America/New_York:20310914T160000
LOCATION:
SUMMARY:Open hours
END:VEVENT
END:VCALENDAR
