BEGIN:VCALENDAR
VERSION:2.0
PRODID:-//miravenhill.org//NONSGML kigkonsult.se iCalcreator 2.30.10//
CALSCALE:GREGORIAN
METHOD:PUBLISH
UID:ecea34bc-66e7-4bfb-baa2-7e20dcb99e8d
X-WR-CALDESC:
X-WR-RELCALID:15079dc64968ba69d7e8f9e831b2599c
X-WR-TIMEZONE:America/New_York
BEGIN:VTIMEZONE
TZID:America/New_York
BEGIN:STANDARD
TZNAME:EST
DTSTART:20301103T020000
TZOFFSETFROM:-0400
TZOFFSETTO:-0500
RDATE:20311102T020000
RDATE:20321107T020000
END:STANDARD
BEGIN:DAYLIGHT
TZNAME:EDT
DTSTART:20310309T020000
TZOFFSETFROM:-0500
TZOFFSETTO:-0400
RDATE:20320314T020000
END:DAYLIGHT
END:VTIMEZONE
BEGIN:VEVENT
UID:dd32d807-273d-4b0c-a01d-1626d0fb6e84
DTSTAMP:20260423T110447Z
DESCRIPTION:
DTSTART;TZID=America/New_York:20310831T140000
DTEND;TZID=America/New_York:20310831T160000
LOCATION:
SUMMARY:Open hours
END:VEVENT
END:VCALENDAR
