BEGIN:VCALENDAR
VERSION:2.0
PRODID:-//miravenhill.org//NONSGML kigkonsult.se iCalcreator 2.30.10//
CALSCALE:GREGORIAN
METHOD:PUBLISH
UID:96ac1313-14d2-4b37-bbe2-a7578fe08074
X-WR-CALDESC:
X-WR-RELCALID:69dd23ce88004bf757ca8899f7da3356
X-WR-TIMEZONE:America/New_York
BEGIN:VTIMEZONE
TZID:America/New_York
BEGIN:STANDARD
TZNAME:EST
DTSTART:20301103T020000
TZOFFSETFROM:-0400
TZOFFSETTO:-0500
RDATE:20311102T020000
RDATE:20321107T020000
END:STANDARD
BEGIN:DAYLIGHT
TZNAME:EDT
DTSTART:20310309T020000
TZOFFSETFROM:-0500
TZOFFSETTO:-0400
RDATE:20320314T020000
END:DAYLIGHT
END:VTIMEZONE
BEGIN:VEVENT
UID:87b8bb79-b78e-4df8-85d9-c00e6f761f7a
DTSTAMP:20260423T111644Z
DESCRIPTION:
DTSTART;TZID=America/New_York:20310824T140000
DTEND;TZID=America/New_York:20310824T160000
LOCATION:
SUMMARY:Open hours
END:VEVENT
END:VCALENDAR
