BEGIN:VCALENDAR
VERSION:2.0
PRODID:-//miravenhill.org//NONSGML kigkonsult.se iCalcreator 2.30.10//
CALSCALE:GREGORIAN
METHOD:PUBLISH
UID:82d397b0-5d11-452e-8391-84717bc5be7f
X-WR-CALDESC:
X-WR-RELCALID:50f9de8214ff37f32e15322025cfc6a8
X-WR-TIMEZONE:America/New_York
BEGIN:VTIMEZONE
TZID:America/New_York
BEGIN:STANDARD
TZNAME:EST
DTSTART:20301103T020000
TZOFFSETFROM:-0400
TZOFFSETTO:-0500
RDATE:20311102T020000
RDATE:20321107T020000
END:STANDARD
BEGIN:DAYLIGHT
TZNAME:EDT
DTSTART:20310309T020000
TZOFFSETFROM:-0500
TZOFFSETTO:-0400
RDATE:20320314T020000
END:DAYLIGHT
END:VTIMEZONE
BEGIN:VEVENT
UID:bde8387d-bbe1-4e4b-b179-73a16b3314ed
DTSTAMP:20260423T111517Z
DESCRIPTION:
DTSTART;TZID=America/New_York:20310810T140000
DTEND;TZID=America/New_York:20310810T160000
LOCATION:
SUMMARY:Open hours
END:VEVENT
END:VCALENDAR
