BEGIN:VCALENDAR
VERSION:2.0
PRODID:-//miravenhill.org//NONSGML kigkonsult.se iCalcreator 2.30.10//
CALSCALE:GREGORIAN
METHOD:PUBLISH
UID:52a51811-9ae8-47b3-bb4c-066eb8c9329e
X-WR-CALDESC:
X-WR-RELCALID:ec24292790ed50de53384872b02a3b76
X-WR-TIMEZONE:America/New_York
BEGIN:VTIMEZONE
TZID:America/New_York
BEGIN:STANDARD
TZNAME:EST
DTSTART:20301103T020000
TZOFFSETFROM:-0400
TZOFFSETTO:-0500
RDATE:20311102T020000
RDATE:20321107T020000
END:STANDARD
BEGIN:DAYLIGHT
TZNAME:EDT
DTSTART:20310309T020000
TZOFFSETFROM:-0500
TZOFFSETTO:-0400
RDATE:20320314T020000
END:DAYLIGHT
END:VTIMEZONE
BEGIN:VEVENT
UID:770912e2-02a7-42f7-850e-7ec9dda7960d
DTSTAMP:20260423T100155Z
DESCRIPTION:
DTSTART;TZID=America/New_York:20310727T140000
DTEND;TZID=America/New_York:20310727T160000
LOCATION:
SUMMARY:Open hours
END:VEVENT
END:VCALENDAR
