BEGIN:VCALENDAR
VERSION:2.0
PRODID:-//miravenhill.org//NONSGML kigkonsult.se iCalcreator 2.30.10//
CALSCALE:GREGORIAN
METHOD:PUBLISH
UID:f6c74290-4496-4c6f-8f78-fa70b49a18ce
X-WR-CALDESC:
X-WR-RELCALID:654f542da121ed9ea85f350c0639f5dd
X-WR-TIMEZONE:America/New_York
BEGIN:VTIMEZONE
TZID:America/New_York
BEGIN:STANDARD
TZNAME:EST
DTSTART:20301103T020000
TZOFFSETFROM:-0400
TZOFFSETTO:-0500
RDATE:20311102T020000
RDATE:20321107T020000
END:STANDARD
BEGIN:DAYLIGHT
TZNAME:EDT
DTSTART:20310309T020000
TZOFFSETFROM:-0500
TZOFFSETTO:-0400
RDATE:20320314T020000
END:DAYLIGHT
END:VTIMEZONE
BEGIN:VEVENT
UID:cd9e9b89-d1d8-42b8-ac99-2ba7a6f584d5
DTSTAMP:20260423T100656Z
DESCRIPTION:
DTSTART;TZID=America/New_York:20310720T140000
DTEND;TZID=America/New_York:20310720T160000
LOCATION:
SUMMARY:Open hours
END:VEVENT
END:VCALENDAR
