BEGIN:VCALENDAR
VERSION:2.0
PRODID:-//miravenhill.org//NONSGML kigkonsult.se iCalcreator 2.30.10//
CALSCALE:GREGORIAN
METHOD:PUBLISH
UID:ac119e0e-f84d-4e72-930e-4f2e38b99c28
X-WR-CALDESC:
X-WR-RELCALID:d8dd2fced629e4d92a9b95d66bb01e7b
X-WR-TIMEZONE:America/New_York
BEGIN:VTIMEZONE
TZID:America/New_York
BEGIN:STANDARD
TZNAME:EST
DTSTART:20301103T020000
TZOFFSETFROM:-0400
TZOFFSETTO:-0500
RDATE:20311102T020000
RDATE:20321107T020000
END:STANDARD
BEGIN:DAYLIGHT
TZNAME:EDT
DTSTART:20310309T020000
TZOFFSETFROM:-0500
TZOFFSETTO:-0400
RDATE:20320314T020000
END:DAYLIGHT
END:VTIMEZONE
BEGIN:VEVENT
UID:b9dbc8cd-10e6-4444-9d51-0cc270886009
DTSTAMP:20260423T095721Z
DESCRIPTION:
DTSTART;TZID=America/New_York:20310713T140000
DTEND;TZID=America/New_York:20310713T160000
LOCATION:
SUMMARY:Open hours
END:VEVENT
END:VCALENDAR
