BEGIN:VCALENDAR
VERSION:2.0
PRODID:-//miravenhill.org//NONSGML kigkonsult.se iCalcreator 2.30.10//
CALSCALE:GREGORIAN
METHOD:PUBLISH
UID:290f7a95-0a81-408e-9836-7f12579dbc3c
X-WR-CALDESC:
X-WR-RELCALID:99330e9a1d65143a45f8ab50a25e0b70
X-WR-TIMEZONE:America/New_York
BEGIN:VTIMEZONE
TZID:America/New_York
BEGIN:STANDARD
TZNAME:EST
DTSTART:20301103T020000
TZOFFSETFROM:-0400
TZOFFSETTO:-0500
RDATE:20311102T020000
RDATE:20321107T020000
END:STANDARD
BEGIN:DAYLIGHT
TZNAME:EDT
DTSTART:20310309T020000
TZOFFSETFROM:-0500
TZOFFSETTO:-0400
RDATE:20320314T020000
END:DAYLIGHT
END:VTIMEZONE
BEGIN:VEVENT
UID:8554060f-58c3-4eda-9eab-ea2d5537eab2
DTSTAMP:20260423T100917Z
DESCRIPTION:
DTSTART;TZID=America/New_York:20310706T140000
DTEND;TZID=America/New_York:20310706T160000
LOCATION:
SUMMARY:Open hours
END:VEVENT
END:VCALENDAR
