BEGIN:VCALENDAR
VERSION:2.0
PRODID:-//miravenhill.org//NONSGML kigkonsult.se iCalcreator 2.30.10//
CALSCALE:GREGORIAN
METHOD:PUBLISH
UID:b267b326-24c3-4b05-83a1-ee10c10caddb
X-WR-CALDESC:
X-WR-RELCALID:d0c5c4bc34b74b49a8d391a97624813b
X-WR-TIMEZONE:America/New_York
BEGIN:VTIMEZONE
TZID:America/New_York
BEGIN:STANDARD
TZNAME:EST
DTSTART:20301103T020000
TZOFFSETFROM:-0400
TZOFFSETTO:-0500
RDATE:20311102T020000
RDATE:20321107T020000
END:STANDARD
BEGIN:DAYLIGHT
TZNAME:EDT
DTSTART:20310309T020000
TZOFFSETFROM:-0500
TZOFFSETTO:-0400
RDATE:20320314T020000
END:DAYLIGHT
END:VTIMEZONE
BEGIN:VEVENT
UID:77f595ed-fc99-4005-a4c6-b9f902e0b43b
DTSTAMP:20260423T101219Z
DESCRIPTION:
DTSTART;TZID=America/New_York:20310704T000000
DTEND;TZID=America/New_York:20310704T235900
LOCATION:
SUMMARY:Fourth of July hours by appointment
END:VEVENT
END:VCALENDAR
