BEGIN:VCALENDAR
VERSION:2.0
PRODID:-//miravenhill.org//NONSGML kigkonsult.se iCalcreator 2.30.10//
CALSCALE:GREGORIAN
METHOD:PUBLISH
UID:971fd372-c6a8-4571-91aa-c3f444531bf6
X-WR-CALDESC:
X-WR-RELCALID:c5bb7d3cb1481c52d71a7f75f99d5c4c
X-WR-TIMEZONE:America/New_York
BEGIN:VTIMEZONE
TZID:America/New_York
BEGIN:STANDARD
TZNAME:EST
DTSTART:20301103T020000
TZOFFSETFROM:-0400
TZOFFSETTO:-0500
RDATE:20311102T020000
RDATE:20321107T020000
END:STANDARD
BEGIN:DAYLIGHT
TZNAME:EDT
DTSTART:20310309T020000
TZOFFSETFROM:-0500
TZOFFSETTO:-0400
RDATE:20320314T020000
END:DAYLIGHT
END:VTIMEZONE
BEGIN:VEVENT
UID:eeae9765-fbd6-43eb-915b-f8044ccdce87
DTSTAMP:20260423T083923Z
DESCRIPTION:
DTSTART;TZID=America/New_York:20310629T140000
DTEND;TZID=America/New_York:20310629T160000
LOCATION:
SUMMARY:Open hours
END:VEVENT
END:VCALENDAR
