BEGIN:VCALENDAR
VERSION:2.0
PRODID:-//miravenhill.org//NONSGML kigkonsult.se iCalcreator 2.30.10//
CALSCALE:GREGORIAN
METHOD:PUBLISH
UID:444f708e-bb76-49c5-8e59-7db1983fa7a5
X-WR-CALDESC:
X-WR-RELCALID:e70a88f1a5033dc3871e396970bfc679
X-WR-TIMEZONE:America/New_York
BEGIN:VTIMEZONE
TZID:America/New_York
BEGIN:STANDARD
TZNAME:EST
DTSTART:20301103T020000
TZOFFSETFROM:-0400
TZOFFSETTO:-0500
RDATE:20311102T020000
RDATE:20321107T020000
END:STANDARD
BEGIN:DAYLIGHT
TZNAME:EDT
DTSTART:20310309T020000
TZOFFSETFROM:-0500
TZOFFSETTO:-0400
RDATE:20320314T020000
END:DAYLIGHT
END:VTIMEZONE
BEGIN:VEVENT
UID:06528adc-bf40-4b7f-bcc2-e8c776142007
DTSTAMP:20260423T083836Z
DESCRIPTION:
DTSTART;TZID=America/New_York:20310622T140000
DTEND;TZID=America/New_York:20310622T160000
LOCATION:
SUMMARY:Open hours
END:VEVENT
END:VCALENDAR
