BEGIN:VCALENDAR
VERSION:2.0
PRODID:-//miravenhill.org//NONSGML kigkonsult.se iCalcreator 2.30.10//
CALSCALE:GREGORIAN
METHOD:PUBLISH
UID:b601c12c-a856-41d4-aefc-d9b2e871c9a2
X-WR-CALDESC:
X-WR-RELCALID:c1b2ea18c85e0f624328535829e09875
X-WR-TIMEZONE:America/New_York
BEGIN:VTIMEZONE
TZID:America/New_York
BEGIN:STANDARD
TZNAME:EST
DTSTART:20301103T020000
TZOFFSETFROM:-0400
TZOFFSETTO:-0500
RDATE:20311102T020000
RDATE:20321107T020000
END:STANDARD
BEGIN:DAYLIGHT
TZNAME:EDT
DTSTART:20310309T020000
TZOFFSETFROM:-0500
TZOFFSETTO:-0400
RDATE:20320314T020000
END:DAYLIGHT
END:VTIMEZONE
BEGIN:VEVENT
UID:4f5c4bcf-02d2-42fb-9e67-8ad975c45e83
DTSTAMP:20260423T084405Z
DESCRIPTION:
DTSTART;TZID=America/New_York:20310615T140000
DTEND;TZID=America/New_York:20310615T160000
LOCATION:
SUMMARY:Open hours
END:VEVENT
END:VCALENDAR
