BEGIN:VCALENDAR
VERSION:2.0
PRODID:-//miravenhill.org//NONSGML kigkonsult.se iCalcreator 2.30.10//
CALSCALE:GREGORIAN
METHOD:PUBLISH
UID:ca01e8b6-581e-4991-8f0e-4a2af7333083
X-WR-CALDESC:
X-WR-RELCALID:1415a177f599d394fb085641f52e9a77
X-WR-TIMEZONE:America/New_York
BEGIN:VTIMEZONE
TZID:America/New_York
BEGIN:STANDARD
TZNAME:EST
DTSTART:20301103T020000
TZOFFSETFROM:-0400
TZOFFSETTO:-0500
RDATE:20311102T020000
RDATE:20321107T020000
END:STANDARD
BEGIN:DAYLIGHT
TZNAME:EDT
DTSTART:20310309T020000
TZOFFSETFROM:-0500
TZOFFSETTO:-0400
RDATE:20320314T020000
END:DAYLIGHT
END:VTIMEZONE
BEGIN:VEVENT
UID:85bbec1f-9e2f-48fa-978f-08eb9c555bfc
DTSTAMP:20260423T083658Z
DESCRIPTION:
DTSTART;TZID=America/New_York:20310608T140000
DTEND;TZID=America/New_York:20310608T160000
LOCATION:
SUMMARY:Open hours
END:VEVENT
END:VCALENDAR
