BEGIN:VCALENDAR
VERSION:2.0
PRODID:-//miravenhill.org//NONSGML kigkonsult.se iCalcreator 2.30.10//
CALSCALE:GREGORIAN
METHOD:PUBLISH
UID:03ea02ad-222a-47d4-9c6e-1d6ff3411da5
X-WR-CALDESC:
X-WR-RELCALID:4467666a7ca80b518b958298fe3795d9
X-WR-TIMEZONE:America/New_York
BEGIN:VTIMEZONE
TZID:America/New_York
BEGIN:STANDARD
TZNAME:EST
DTSTART:20301103T020000
TZOFFSETFROM:-0400
TZOFFSETTO:-0500
RDATE:20311102T020000
RDATE:20321107T020000
END:STANDARD
BEGIN:DAYLIGHT
TZNAME:EDT
DTSTART:20310309T020000
TZOFFSETFROM:-0500
TZOFFSETTO:-0400
RDATE:20320314T020000
END:DAYLIGHT
END:VTIMEZONE
BEGIN:VEVENT
UID:1842bf3b-6943-4446-8c83-856782dcd13b
DTSTAMP:20260423T071347Z
DESCRIPTION:
DTSTART;TZID=America/New_York:20310528T120000
DTEND;TZID=America/New_York:20310528T160000
LOCATION:
SUMMARY:Memorial Day hours by appointment only
END:VEVENT
END:VCALENDAR
