BEGIN:VCALENDAR
VERSION:2.0
PRODID:-//miravenhill.org//NONSGML kigkonsult.se iCalcreator 2.30.10//
CALSCALE:GREGORIAN
METHOD:PUBLISH
UID:73ba3ca6-e7bc-4c00-abdd-b83969be456c
X-WR-CALDESC:
X-WR-RELCALID:4cae2ef9744c33086d74417044861fc9
X-WR-TIMEZONE:America/New_York
BEGIN:VTIMEZONE
TZID:America/New_York
BEGIN:STANDARD
TZNAME:EST
DTSTART:20301103T020000
TZOFFSETFROM:-0400
TZOFFSETTO:-0500
RDATE:20311102T020000
RDATE:20321107T020000
END:STANDARD
BEGIN:DAYLIGHT
TZNAME:EDT
DTSTART:20310309T020000
TZOFFSETFROM:-0500
TZOFFSETTO:-0400
RDATE:20320314T020000
END:DAYLIGHT
END:VTIMEZONE
BEGIN:VEVENT
UID:a5d3f1cf-340e-4d7d-a6f1-931b60f8e85c
DTSTAMP:20260423T070834Z
DESCRIPTION:
DTSTART;TZID=America/New_York:20310518T140000
DTEND;TZID=America/New_York:20310518T160000
LOCATION:
SUMMARY:Open hours
END:VEVENT
END:VCALENDAR
