BEGIN:VCALENDAR
VERSION:2.0
PRODID:-//miravenhill.org//NONSGML kigkonsult.se iCalcreator 2.30.10//
CALSCALE:GREGORIAN
METHOD:PUBLISH
UID:d16f8e91-a9d7-4993-ae52-a945f9561765
X-WR-CALDESC:
X-WR-RELCALID:ed49ae7aa81a65d2ad2988c7d120fd1c
X-WR-TIMEZONE:America/New_York
BEGIN:VTIMEZONE
TZID:America/New_York
BEGIN:STANDARD
TZNAME:EST
DTSTART:20301103T020000
TZOFFSETFROM:-0400
TZOFFSETTO:-0500
RDATE:20311102T020000
END:STANDARD
BEGIN:DAYLIGHT
TZNAME:EDT
DTSTART:20310309T020000
TZOFFSETFROM:-0500
TZOFFSETTO:-0400
RDATE:20320314T020000
END:DAYLIGHT
END:VTIMEZONE
BEGIN:VEVENT
UID:1274bf72-d73a-4675-8cbc-4183aa17e059
DTSTAMP:20260423T071036Z
DESCRIPTION:
DTSTART;TZID=America/New_York:20310504T140000
DTEND;TZID=America/New_York:20310504T160000
LOCATION:
SUMMARY:Open hours
END:VEVENT
END:VCALENDAR
