BEGIN:VCALENDAR
VERSION:2.0
PRODID:-//miravenhill.org//NONSGML kigkonsult.se iCalcreator 2.30.10//
CALSCALE:GREGORIAN
METHOD:PUBLISH
UID:fd291527-87b5-48cf-868f-942a05fbf1d4
X-WR-CALDESC:
X-WR-RELCALID:7c04af4afa09ab9ca8f78d96d0ffc560
X-WR-TIMEZONE:America/New_York
BEGIN:VTIMEZONE
TZID:America/New_York
BEGIN:STANDARD
TZNAME:EST
DTSTART:20301103T020000
TZOFFSETFROM:-0400
TZOFFSETTO:-0500
RDATE:20311102T020000
END:STANDARD
BEGIN:DAYLIGHT
TZNAME:EDT
DTSTART:20310309T020000
TZOFFSETFROM:-0500
TZOFFSETTO:-0400
RDATE:20320314T020000
END:DAYLIGHT
END:VTIMEZONE
BEGIN:VEVENT
UID:37777f4c-4dee-467f-8bf8-1121b99bc3f2
DTSTAMP:20260423T054227Z
DESCRIPTION:
DTSTART;TZID=America/New_York:20310427T140000
DTEND;TZID=America/New_York:20310427T160000
LOCATION:
SUMMARY:Open hours
END:VEVENT
END:VCALENDAR
