BEGIN:VCALENDAR
VERSION:2.0
PRODID:-//miravenhill.org//NONSGML kigkonsult.se iCalcreator 2.30.10//
CALSCALE:GREGORIAN
METHOD:PUBLISH
UID:745b345b-78c6-4868-86fb-5a171aef0bb4
X-WR-CALDESC:
X-WR-RELCALID:066990a849c493e544043d8eb509dfdc
X-WR-TIMEZONE:America/New_York
BEGIN:VTIMEZONE
TZID:America/New_York
BEGIN:STANDARD
TZNAME:EST
DTSTART:20301103T020000
TZOFFSETFROM:-0400
TZOFFSETTO:-0500
RDATE:20311102T020000
END:STANDARD
BEGIN:DAYLIGHT
TZNAME:EDT
DTSTART:20310309T020000
TZOFFSETFROM:-0500
TZOFFSETTO:-0400
RDATE:20320314T020000
END:DAYLIGHT
END:VTIMEZONE
BEGIN:VEVENT
UID:d396fb37-aa16-4ed1-9f71-12f5d6ddebcf
DTSTAMP:20260423T054426Z
DESCRIPTION:
DTSTART;TZID=America/New_York:20310426T190000
DTEND;TZID=America/New_York:20310426T200000
LOCATION:
SUMMARY:Labor Days hours by appointment.
END:VEVENT
END:VCALENDAR
