BEGIN:VCALENDAR
VERSION:2.0
PRODID:-//miravenhill.org//NONSGML kigkonsult.se iCalcreator 2.30.10//
CALSCALE:GREGORIAN
METHOD:PUBLISH
UID:f81ff051-604c-477e-b3a5-46f28604cbf7
X-WR-CALDESC:
X-WR-RELCALID:0331171b62fc6379c2500b1d441f9fde
X-WR-TIMEZONE:America/New_York
BEGIN:VTIMEZONE
TZID:America/New_York
BEGIN:STANDARD
TZNAME:EST
DTSTART:20301103T020000
TZOFFSETFROM:-0400
TZOFFSETTO:-0500
RDATE:20311102T020000
END:STANDARD
BEGIN:DAYLIGHT
TZNAME:EDT
DTSTART:20310309T020000
TZOFFSETFROM:-0500
TZOFFSETTO:-0400
RDATE:20320314T020000
END:DAYLIGHT
END:VTIMEZONE
BEGIN:VEVENT
UID:e36435b5-deb4-4fb7-90e3-6f7301796066
DTSTAMP:20260423T054115Z
DESCRIPTION:
DTSTART;TZID=America/New_York:20310420T140000
DTEND;TZID=America/New_York:20310420T160000
LOCATION:
SUMMARY:Open hours
END:VEVENT
END:VCALENDAR
