BEGIN:VCALENDAR
VERSION:2.0
PRODID:-//miravenhill.org//NONSGML kigkonsult.se iCalcreator 2.30.10//
CALSCALE:GREGORIAN
METHOD:PUBLISH
UID:ccfd3f5d-fc87-496e-87e2-0bc17d1c1a72
X-WR-CALDESC:
X-WR-RELCALID:19c4afdd3c9c0ea47ddb80b22d54ea33
X-WR-TIMEZONE:America/New_York
BEGIN:VTIMEZONE
TZID:America/New_York
BEGIN:STANDARD
TZNAME:EST
DTSTART:20301103T020000
TZOFFSETFROM:-0400
TZOFFSETTO:-0500
RDATE:20311102T020000
END:STANDARD
BEGIN:DAYLIGHT
TZNAME:EDT
DTSTART:20310309T020000
TZOFFSETFROM:-0500
TZOFFSETTO:-0400
RDATE:20320314T020000
END:DAYLIGHT
END:VTIMEZONE
BEGIN:VEVENT
UID:6a62a00f-62c5-4c80-aea0-677f14c26126
DTSTAMP:20260423T053748Z
DESCRIPTION:
DTSTART;TZID=America/New_York:20310413T140000
DTEND;TZID=America/New_York:20310413T160000
LOCATION:
SUMMARY:Open hours
END:VEVENT
END:VCALENDAR
