BEGIN:VCALENDAR
VERSION:2.0
PRODID:-//miravenhill.org//NONSGML kigkonsult.se iCalcreator 2.30.10//
CALSCALE:GREGORIAN
METHOD:PUBLISH
UID:5f524aa6-d137-448d-b339-b7aedbde668b
X-WR-CALDESC:
X-WR-RELCALID:f75473e91823f9fcff37743329293a9e
X-WR-TIMEZONE:America/New_York
BEGIN:VTIMEZONE
TZID:America/New_York
BEGIN:STANDARD
TZNAME:EST
DTSTART:20301103T020000
TZOFFSETFROM:-0400
TZOFFSETTO:-0500
RDATE:20311102T020000
END:STANDARD
BEGIN:DAYLIGHT
TZNAME:EDT
DTSTART:20310309T020000
TZOFFSETFROM:-0500
TZOFFSETTO:-0400
RDATE:20320314T020000
END:DAYLIGHT
END:VTIMEZONE
BEGIN:VEVENT
UID:315e8e62-f371-4e2f-8980-71b518afaee9
DTSTAMP:20260423T053926Z
DESCRIPTION:
DTSTART;TZID=America/New_York:20310406T140000
DTEND;TZID=America/New_York:20310406T160000
LOCATION:
SUMMARY:Open hours
END:VEVENT
END:VCALENDAR
