BEGIN:VCALENDAR
VERSION:2.0
PRODID:-//miravenhill.org//NONSGML kigkonsult.se iCalcreator 2.30.10//
CALSCALE:GREGORIAN
METHOD:PUBLISH
UID:996b6c69-c27c-4ce1-a8e9-90f9daf5af73
X-WR-CALDESC:
X-WR-RELCALID:64c7b413f195b1fcb2543c1f1766785b
X-WR-TIMEZONE:America/New_York
BEGIN:VTIMEZONE
TZID:America/New_York
BEGIN:STANDARD
TZNAME:EST
DTSTART:20301103T020000
TZOFFSETFROM:-0400
TZOFFSETTO:-0500
RDATE:20311102T020000
END:STANDARD
BEGIN:DAYLIGHT
TZNAME:EDT
DTSTART:20310309T020000
TZOFFSETFROM:-0500
TZOFFSETTO:-0400
RDATE:20320314T020000
END:DAYLIGHT
END:VTIMEZONE
BEGIN:VEVENT
UID:9b3bcf6d-073e-4e8d-ac27-36ba95927c04
DTSTAMP:20260423T043657Z
DESCRIPTION:
DTSTART;TZID=America/New_York:20310330T140000
DTEND;TZID=America/New_York:20310330T160000
LOCATION:
SUMMARY:Open hours
END:VEVENT
END:VCALENDAR
