BEGIN:VCALENDAR
VERSION:2.0
PRODID:-//miravenhill.org//NONSGML kigkonsult.se iCalcreator 2.30.10//
CALSCALE:GREGORIAN
METHOD:PUBLISH
UID:f7890b2c-ce55-45d0-a6c5-8377e1c07196
X-WR-CALDESC:
X-WR-RELCALID:25fd1fdd37fa3c73e4f52a1c44fac3a4
X-WR-TIMEZONE:America/New_York
BEGIN:VTIMEZONE
TZID:America/New_York
BEGIN:STANDARD
TZNAME:EST
DTSTART:20301103T020000
TZOFFSETFROM:-0400
TZOFFSETTO:-0500
RDATE:20311102T020000
END:STANDARD
BEGIN:DAYLIGHT
TZNAME:EDT
DTSTART:20310309T020000
TZOFFSETFROM:-0500
TZOFFSETTO:-0400
RDATE:20320314T020000
END:DAYLIGHT
END:VTIMEZONE
BEGIN:VEVENT
UID:2867d160-5155-4f7c-905f-be9c221eb351
DTSTAMP:20260423T043118Z
DESCRIPTION:
DTSTART;TZID=America/New_York:20310323T140000
DTEND;TZID=America/New_York:20310323T160000
LOCATION:
SUMMARY:Open hours
END:VEVENT
END:VCALENDAR
