BEGIN:VCALENDAR
VERSION:2.0
PRODID:-//miravenhill.org//NONSGML kigkonsult.se iCalcreator 2.30.10//
CALSCALE:GREGORIAN
METHOD:PUBLISH
UID:e5c63178-5c5a-4292-ba85-cf7504701091
X-WR-CALDESC:
X-WR-RELCALID:8899c6260dc29ed1383fafa4b8cebe69
X-WR-TIMEZONE:America/New_York
BEGIN:VTIMEZONE
TZID:America/New_York
BEGIN:STANDARD
TZNAME:EST
DTSTART:20301103T020000
TZOFFSETFROM:-0400
TZOFFSETTO:-0500
RDATE:20311102T020000
END:STANDARD
BEGIN:DAYLIGHT
TZNAME:EDT
DTSTART:20310309T020000
TZOFFSETFROM:-0500
TZOFFSETTO:-0400
RDATE:20320314T020000
END:DAYLIGHT
END:VTIMEZONE
BEGIN:VEVENT
UID:c66d5eef-3eee-44af-83a7-27d6a7be4c1a
DTSTAMP:20260423T043315Z
DESCRIPTION:
DTSTART;TZID=America/New_York:20310316T140000
DTEND;TZID=America/New_York:20310316T160000
LOCATION:
SUMMARY:Open hours
END:VEVENT
END:VCALENDAR
