BEGIN:VCALENDAR
VERSION:2.0
PRODID:-//miravenhill.org//NONSGML kigkonsult.se iCalcreator 2.30.10//
CALSCALE:GREGORIAN
METHOD:PUBLISH
UID:5a5f59a2-3381-4ce6-81d6-8fab7effbf6b
X-WR-CALDESC:
X-WR-RELCALID:9577411a93c7b8342bb96d28793da01b
X-WR-TIMEZONE:America/New_York
BEGIN:VTIMEZONE
TZID:America/New_York
BEGIN:STANDARD
TZNAME:EST
DTSTART:20301103T020000
TZOFFSETFROM:-0400
TZOFFSETTO:-0500
RDATE:20311102T020000
END:STANDARD
BEGIN:DAYLIGHT
TZNAME:EDT
DTSTART:20300310T020000
TZOFFSETFROM:-0500
TZOFFSETTO:-0400
RDATE:20310309T020000
RDATE:20320314T020000
END:DAYLIGHT
END:VTIMEZONE
BEGIN:VEVENT
UID:018cd608-8a51-4d2e-8e3f-b7f10fe7a438
DTSTAMP:20260423T042513Z
DESCRIPTION:
DTSTART;TZID=America/New_York:20310302T140000
DTEND;TZID=America/New_York:20310302T160000
LOCATION:
SUMMARY:Open hours
END:VEVENT
END:VCALENDAR
