BEGIN:VCALENDAR
VERSION:2.0
PRODID:-//miravenhill.org//NONSGML kigkonsult.se iCalcreator 2.30.10//
CALSCALE:GREGORIAN
METHOD:PUBLISH
UID:8a19cff7-3d3f-45e2-bc52-4764ce5d8aef
X-WR-CALDESC:
X-WR-RELCALID:aaa49fff0b91c5f41a0c9c68c29aad24
X-WR-TIMEZONE:America/New_York
BEGIN:VTIMEZONE
TZID:America/New_York
BEGIN:STANDARD
TZNAME:EST
DTSTART:20301103T020000
TZOFFSETFROM:-0400
TZOFFSETTO:-0500
RDATE:20311102T020000
END:STANDARD
BEGIN:DAYLIGHT
TZNAME:EDT
DTSTART:20300310T020000
TZOFFSETFROM:-0500
TZOFFSETTO:-0400
RDATE:20310309T020000
RDATE:20320314T020000
END:DAYLIGHT
END:VTIMEZONE
BEGIN:VEVENT
UID:c901efa8-d241-418f-84b1-2cf81f634ca7
DTSTAMP:20260423T030934Z
DESCRIPTION:
DTSTART;TZID=America/New_York:20310216T140000
DTEND;TZID=America/New_York:20310216T160000
LOCATION:
SUMMARY:Open hours
END:VEVENT
END:VCALENDAR
