BEGIN:VCALENDAR
VERSION:2.0
PRODID:-//miravenhill.org//NONSGML kigkonsult.se iCalcreator 2.30.10//
CALSCALE:GREGORIAN
METHOD:PUBLISH
UID:7512b86c-e90b-4552-9b1f-5f5ebc800e3b
X-WR-CALDESC:
X-WR-RELCALID:3a66c5e8c63a896fbe655bc26f24ecd1
X-WR-TIMEZONE:America/New_York
BEGIN:VTIMEZONE
TZID:America/New_York
BEGIN:STANDARD
TZNAME:EST
DTSTART:20301103T020000
TZOFFSETFROM:-0400
TZOFFSETTO:-0500
RDATE:20311102T020000
END:STANDARD
BEGIN:DAYLIGHT
TZNAME:EDT
DTSTART:20300310T020000
TZOFFSETFROM:-0500
TZOFFSETTO:-0400
RDATE:20310309T020000
RDATE:20320314T020000
END:DAYLIGHT
END:VTIMEZONE
BEGIN:VEVENT
UID:878b2a7a-8b83-481b-a669-0fc05e29b914
DTSTAMP:20260423T030935Z
DESCRIPTION:
DTSTART;TZID=America/New_York:20310209T140000
DTEND;TZID=America/New_York:20310209T160000
LOCATION:
SUMMARY:Open hours
END:VEVENT
END:VCALENDAR
