BEGIN:VCALENDAR
VERSION:2.0
PRODID:-//miravenhill.org//NONSGML kigkonsult.se iCalcreator 2.30.10//
CALSCALE:GREGORIAN
METHOD:PUBLISH
UID:4525e83e-2ba1-44e6-b806-1131b649294f
X-WR-CALDESC:
X-WR-RELCALID:22f7914c54323e24d362fc1d90949efa
X-WR-TIMEZONE:America/New_York
BEGIN:VTIMEZONE
TZID:America/New_York
BEGIN:STANDARD
TZNAME:EST
DTSTART:20301103T020000
TZOFFSETFROM:-0400
TZOFFSETTO:-0500
RDATE:20311102T020000
END:STANDARD
BEGIN:DAYLIGHT
TZNAME:EDT
DTSTART:20300310T020000
TZOFFSETFROM:-0500
TZOFFSETTO:-0400
RDATE:20310309T020000
RDATE:20320314T020000
END:DAYLIGHT
END:VTIMEZONE
BEGIN:VEVENT
UID:ab268aa1-0598-4411-8b24-bfd3425c2f72
DTSTAMP:20260423T020817Z
DESCRIPTION:
DTSTART;TZID=America/New_York:20310126T140000
DTEND;TZID=America/New_York:20310126T160000
LOCATION:
SUMMARY:Open hours
END:VEVENT
END:VCALENDAR
