BEGIN:VCALENDAR
VERSION:2.0
PRODID:-//miravenhill.org//NONSGML kigkonsult.se iCalcreator 2.30.10//
CALSCALE:GREGORIAN
METHOD:PUBLISH
UID:e5011cb4-7b0a-4efe-91cf-f09b09184b21
X-WR-CALDESC:
X-WR-RELCALID:1a4676b805c56e7efe7e5f9773ea47e7
X-WR-TIMEZONE:America/New_York
BEGIN:VTIMEZONE
TZID:America/New_York
BEGIN:STANDARD
TZNAME:EST
DTSTART:20301103T020000
TZOFFSETFROM:-0400
TZOFFSETTO:-0500
RDATE:20311102T020000
END:STANDARD
BEGIN:DAYLIGHT
TZNAME:EDT
DTSTART:20300310T020000
TZOFFSETFROM:-0500
TZOFFSETTO:-0400
RDATE:20310309T020000
RDATE:20320314T020000
END:DAYLIGHT
END:VTIMEZONE
BEGIN:VEVENT
UID:caacde3d-d760-4fce-8cc6-4e5fb4376d74
DTSTAMP:20260423T020217Z
DESCRIPTION:
DTSTART;TZID=America/New_York:20310119T140000
DTEND;TZID=America/New_York:20310119T160000
LOCATION:
SUMMARY:Open hours
END:VEVENT
END:VCALENDAR
