BEGIN:VCALENDAR
VERSION:2.0
PRODID:-//miravenhill.org//NONSGML kigkonsult.se iCalcreator 2.30.10//
CALSCALE:GREGORIAN
METHOD:PUBLISH
UID:3b978914-e6fd-41ac-812e-addc1b4df4fe
X-WR-CALDESC:
X-WR-RELCALID:c004576fff4bee942956aac7471a686e
X-WR-TIMEZONE:America/New_York
BEGIN:VTIMEZONE
TZID:America/New_York
BEGIN:STANDARD
TZNAME:EST
DTSTART:20301103T020000
TZOFFSETFROM:-0400
TZOFFSETTO:-0500
RDATE:20311102T020000
END:STANDARD
BEGIN:DAYLIGHT
TZNAME:EDT
DTSTART:20300310T020000
TZOFFSETFROM:-0500
TZOFFSETTO:-0400
RDATE:20310309T020000
RDATE:20320314T020000
END:DAYLIGHT
END:VTIMEZONE
BEGIN:VEVENT
UID:0d49a263-d3c8-41fb-9201-925266bbd796
DTSTAMP:20260423T015413Z
DESCRIPTION:
DTSTART;TZID=America/New_York:20310105T140000
DTEND;TZID=America/New_York:20310105T160000
LOCATION:
SUMMARY:Open hours
END:VEVENT
END:VCALENDAR
