BEGIN:VCALENDAR
VERSION:2.0
PRODID:-//miravenhill.org//NONSGML kigkonsult.se iCalcreator 2.30.10//
CALSCALE:GREGORIAN
METHOD:PUBLISH
UID:50df6423-8bce-46f6-90d7-51f934bda1fc
X-WR-CALDESC:
X-WR-RELCALID:9cdc33f9e3a38f46fc5cedba685bc79a
X-WR-TIMEZONE:America/New_York
BEGIN:VTIMEZONE
TZID:America/New_York
BEGIN:STANDARD
TZNAME:EST
DTSTART:20301103T020000
TZOFFSETFROM:-0400
TZOFFSETTO:-0500
RDATE:20311102T020000
END:STANDARD
BEGIN:DAYLIGHT
TZNAME:EDT
DTSTART:20300310T020000
TZOFFSETFROM:-0500
TZOFFSETTO:-0400
RDATE:20310309T020000
RDATE:20320314T020000
END:DAYLIGHT
END:VTIMEZONE
BEGIN:VEVENT
UID:f5be8915-8dd8-49f3-ab1d-1131b6b6df3b
DTSTAMP:20260423T003520Z
DESCRIPTION:
DTSTART;TZID=America/New_York:20301229T140000
DTEND;TZID=America/New_York:20301229T160000
LOCATION:
SUMMARY:Open hours
END:VEVENT
END:VCALENDAR
