BEGIN:VCALENDAR
VERSION:2.0
PRODID:-//miravenhill.org//NONSGML kigkonsult.se iCalcreator 2.30.10//
CALSCALE:GREGORIAN
METHOD:PUBLISH
UID:da9585fc-2ffb-4f4c-9131-f76842c79d15
X-WR-CALDESC:
X-WR-RELCALID:61483701f1ecf2f6862c1cf5075caad2
X-WR-TIMEZONE:America/New_York
BEGIN:VTIMEZONE
TZID:America/New_York
BEGIN:STANDARD
TZNAME:EST
DTSTART:20301103T020000
TZOFFSETFROM:-0400
TZOFFSETTO:-0500
RDATE:20311102T020000
END:STANDARD
BEGIN:DAYLIGHT
TZNAME:EDT
DTSTART:20300310T020000
TZOFFSETFROM:-0500
TZOFFSETTO:-0400
RDATE:20310309T020000
RDATE:20320314T020000
END:DAYLIGHT
END:VTIMEZONE
BEGIN:VEVENT
UID:1b6aa381-ba49-439e-b3c1-acc7831dcdc1
DTSTAMP:20260423T005026Z
DESCRIPTION:
DTSTART;TZID=America/New_York:20301224T000000
DTEND;TZID=America/New_York:20301224T235900
LOCATION:
SUMMARY:Christmas Eve open by appointment
END:VEVENT
END:VCALENDAR
