BEGIN:VCALENDAR
VERSION:2.0
PRODID:-//miravenhill.org//NONSGML kigkonsult.se iCalcreator 2.30.10//
CALSCALE:GREGORIAN
METHOD:PUBLISH
UID:74732983-3599-4661-ba76-bffb3fc7b81f
X-WR-CALDESC:
X-WR-RELCALID:5a7d11c16e245367d3910d930ca7ca47
X-WR-TIMEZONE:America/New_York
BEGIN:VTIMEZONE
TZID:America/New_York
BEGIN:STANDARD
TZNAME:EST
DTSTART:20301103T020000
TZOFFSETFROM:-0400
TZOFFSETTO:-0500
RDATE:20311102T020000
END:STANDARD
BEGIN:DAYLIGHT
TZNAME:EDT
DTSTART:20300310T020000
TZOFFSETFROM:-0500
TZOFFSETTO:-0400
RDATE:20310309T020000
RDATE:20320314T020000
END:DAYLIGHT
END:VTIMEZONE
BEGIN:VEVENT
UID:116b3ee5-dda0-4eb3-92f4-0d7e584f9dde
DTSTAMP:20260423T003852Z
DESCRIPTION:
DTSTART;TZID=America/New_York:20301222T140000
DTEND;TZID=America/New_York:20301222T160000
LOCATION:
SUMMARY:Open hours
END:VEVENT
END:VCALENDAR
