BEGIN:VCALENDAR
VERSION:2.0
PRODID:-//miravenhill.org//NONSGML kigkonsult.se iCalcreator 2.30.10//
CALSCALE:GREGORIAN
METHOD:PUBLISH
UID:100690e1-f8f7-4599-9139-cd3cccf6df9a
X-WR-CALDESC:
X-WR-RELCALID:c11a18843a99ceb95793b9674018e2b6
X-WR-TIMEZONE:America/New_York
BEGIN:VTIMEZONE
TZID:America/New_York
BEGIN:STANDARD
TZNAME:EST
DTSTART:20301103T020000
TZOFFSETFROM:-0400
TZOFFSETTO:-0500
RDATE:20311102T020000
END:STANDARD
BEGIN:DAYLIGHT
TZNAME:EDT
DTSTART:20300310T020000
TZOFFSETFROM:-0500
TZOFFSETTO:-0400
RDATE:20310309T020000
RDATE:20320314T020000
END:DAYLIGHT
END:VTIMEZONE
BEGIN:VEVENT
UID:86c24a85-48e2-4896-95cd-feb8a0d37111
DTSTAMP:20260423T004144Z
DESCRIPTION:
DTSTART;TZID=America/New_York:20301215T140000
DTEND;TZID=America/New_York:20301215T160000
LOCATION:
SUMMARY:Open hours
END:VEVENT
END:VCALENDAR
